BEGIN:VCALENDAR
VERSION:2.0
PRODID:icalendar-ruby
CALSCALE:GREGORIAN
METHOD:PUBLISH
BEGIN:VEVENT
DTSTAMP:20260420T181255Z
UID:835-4794978@hillsideairdrie.ca
DTSTART:20260425T003000Z
DTEND:20260425T023000Z
CLASS:PUBLIC
CREATED:20260410T150013
DESCRIPTION:Students in grades 6 to 12 are invited to come out for a night 
 full of energy\, laughter\, and connection as we grow together—and most 
 importantly\, grow in the Lord.\nThis week we are back with our youth-led 
 worship and our real talk series. Come join us as we sing in worship of ou
 r Saviour Jesus\, and talk about your questions about life and the Bible.
  \nMeet at the church at 6:30pm.
LAST-MODIFIED:20260410T150013
LOCATION:209\,2903 Kingsview Blvd
SUMMARY:Youth Church
URL;VALUE=URI:https://www.hillsideairdrie.ca/events/youth-church--835/2026-
 04-24
ATTACH;FILENAME=youth-4.png;FMTTYPE=image/png:https://dq5pwpg1q8ru0.cloudfr
 ont.net/2026/04/10/21/00/12/0aa5c62b-1f0c-4af4-b26f-b1aefc6ab55d/youth-4.p
 ng
END:VEVENT
END:VCALENDAR
