BEGIN:VCALENDAR
VERSION:2.0
PRODID:icalendar-ruby
CALSCALE:GREGORIAN
METHOD:PUBLISH
BEGIN:VEVENT
DTSTAMP:20260421T151718Z
UID:704-4899201@hillsideairdrie.ca
DTSTART:20260523T150000Z
DTEND:20260523T160000Z
CLASS:PUBLIC
CREATED:20260417T105128
DESCRIPTION:Life is better when we don’t walk it alone. Our Men’s Break
 fast is a simple invitation to slow down\, share a meal\, and connect with
  other men from our Hillside family.\nWhether you’re new to Hillside or 
 have been here for years\, this gathering creates space for genuine connec
 tion—building friendships\, having meaningful conversations\, and being 
 encouraged in your faith. It’s relaxed\, welcoming\, and honest.\nWe’l
 l be enjoying a breakfast potluck\, so if you’re able\, bring something 
 to share—bacon\, sausage\, hashbrowns\, fruit\, cinnamon buns\, or any f
 avourite breakfast dish. The food is part of the experience\, but the real
  value is found around the table\, spending time together.\nMen of all age
 s are welcome\, and you’re invited to bring a friend. Come as you are\, 
 pull up a chair\, and be part of a morning centered on community\, convers
 ation\, and faith. We’d love to see you there.\n \n
LAST-MODIFIED:20260417T105128
LOCATION:Cornerstone Church - 2640 Rundlelawn Rd NE Calgary\, AB
SUMMARY:Men's Breakfast
URL;VALUE=URI:https://www.hillsideairdrie.ca/events/mens-breakfast--704/202
 6-05-23
ATTACH;FILENAME=Mens.png;FMTTYPE=image/png:https://dq5pwpg1q8ru0.cloudfront
 .net/2026/01/09/18/50/55/b5f826a5-bb41-4274-8249-941e92df6662/Mens.png
END:VEVENT
END:VCALENDAR
