BEGIN:VCALENDAR
VERSION:2.0
PRODID:icalendar-ruby
CALSCALE:GREGORIAN
METHOD:PUBLISH
BEGIN:VEVENT
DTSTAMP:20260420T181607Z
UID:836-4794979@hillsideairdrie.ca
DTSTART:20260502T003000Z
DTEND:20260502T023000Z
CLASS:PUBLIC
CREATED:20260410T151351
DESCRIPTION:Want to play a game?\nStudents in grades 6 to 12 are invited to
  come out for a night full of energy\, laughter\, and connection as we gro
 w together—and most importantly\, grow in the Lord.\nCome join us as we 
 play as sorts of weird and wacky games\, I (Matt) have been stock piling m
 any odd and fun games that require you to have some fun\, yup\, fun. \nCo
 me join us at 6:30pm for an assortment of games! 
LAST-MODIFIED:20260410T151351
LOCATION:209\, 2903 Kingsview Blvd
SUMMARY:Games of all sorts
URL;VALUE=URI:https://www.hillsideairdrie.ca/events/games-of-all-sorts--836
 /2026-05-01
ATTACH;FILENAME=Games-2.png;FMTTYPE=image/png:https://dq5pwpg1q8ru0.cloudfr
 ont.net/2026/04/10/21/13/51/60ef2309-6acd-488e-a7c2-c0270b385e4a/Games-2.p
 ng
END:VEVENT
END:VCALENDAR
